Workbook

Sheet PORTADA
A2: Caja Costarricense de Seguro Social Gerencia Médica Dirección de Desarrollo de Servicios de Salud Área de Regulación y Sistematización de Diagnóstico y Tratamiento Coordinación Nacional de Nutrición
A3: INSTRUMENTO DE SUPERVISIÓN DE LOS SERVICIOS DE NUTRICIÓN EN LOS HOSPITALES C.C.S.S 2022. Versión 2

Sheet DESCRIPCION
A1: DESCRIPCION DEL INSTRUMENTO
A3: La aplicación de este instrumento para Nutrición en los establecimientos de salud de la CCSS, permitirá el cumplimiento de los siguientes objetivos:
A5: OBJETIVO GENERAL
A6: Contribuir a la calidad de la atención a las personas y a la toma de decisiones, mediante la supervisión del cumplimiento de las normas técnico-administrativo institucionales en los Servicios de Nutrición de los Hospitales de la CCSS
A8: OBJETIVOS ESPECIFICOS
A9: 1-Analizar técnica y administrativamente la labor de los profesionales en nutrición a través de la supervisión, monitoreo y evaluación que evidencien el cumplimiento de las metas según las normas para la atención que se brinda a los usuarios.
A10: 2-Analizar los datos de las variables registradas en los diferentes procesos que se desarrollan en los Servicios de Nutrición
A11: 3-Recomendar las medidas correctivas con base en los resultados obtenidos.
A12: 4- Brindar seguimiento a las medidas correctivas recomendadas en la última supervisión efectuada.
A14: Para el logro de los objetivos, los profesionales en Nutrición, deben de cumplir con la normativa vigente emitida por la Instutición para el accionar de la disciplina de nutrición, considerando las siguientes variables de supervisión :
A15: 1. Gestión Administrativa
A16: 2. Atención Nutricional Ambulatoria
... A22: 8. Evaluación del Menú

Sheet METODOLOGIA 
B2: METODOLOGÍA
A4: 1 | B4: Con base en lo planificado en la DRIPSS o en la Coordinación Nacional de Nutrición según corresponda, se comunica mediante oficio, a la Dirección Médica del Hospital con copia a la Jefatura del Servicio de Nutrición del Hospital los días, horario de la supervisión y la estrategia a desarrollar.
A5: 2 | B5: El profesional en nutrición del establecimiento de salud confirma el recibido del oficio y agenda la visita.
A6: 3 | B6: El nutricionista de la unidad, 15 días antes de la visita, envía por correo electrónico o ubica en las carpetas compartidas de la Coordinación Nacional de Nutrición o de la Región según proceda la siguiente información:
A7: 3.1 | B7: El plan anual de NOVAPLAN de la Disciplina evaluado a la fecha de supervisión.(Incluir evidencia en Carpeta Plan anual NOVAPLAN)
A8: 3.2 | B8: Actas de reunión que evidencien la presentación y análisis de los indicadores de NOVAPLAN con el personal profesional de nutrición.
A9: 3.3 | B9: Actas de reunión que evidencien la presentación de los indicadores de NOVAPLAN al personal de nutrición.
A10: 3.4 | B10: Cumplimiento de metas y análisis de los resultados del plan anual de NOVAPLAN de la Gerencia Médica y de la disciplina.(Incluir evidencia en Carpeta Plan anual NOVAPLAN)
A11: 3.5 | B11: Plan remedial para el siguiente periodo con base en el plananual de NOVAPLAN de la Gerencia Médica y de la disciplina. (Incluir evidencia en Carpeta Plan anual NOVAPLAN)
A12: 3.6 | B12: Los cuadros estadísticos 12 y 43, este último presentado oficialmente a las autoridades.
A13: 3.7 | B13: Control de inventarios activos (Incluir evidencia en Carpeta Inventario de Activos).
A14: 3.8 | B14: Revisión de la nota de expediente de 07 atenciones en la consulta externa de Nutrición, seleccionadas al azar según listados generados en cubos en el período a evaluar. Se revisarán los criterios de la calidad de la atención en consulta de primera vez o subsecuente definidos en la Guía SIES de Nutrición vigente (La muestra incluye un adulto, o una paciente en periodo de embarazo, o un niño, o un adolescente, o una persona adulta mayor). En caso que en la unidad no se brinde atención a determinado grupo poblacional, se seleccionará acorde a criterio de quien supervisa. En cada uno de los expedientes, verificar el uso del módulo de nutrición en EDUS.
A15: 3.9 | B15: Agenda de pacientes de un día programado de consulta que especifique las horas de cada cita.
A16: 3.10. | B16: Revisión de la nota de expedientes de 4 pacientes hospitalizados atendidos mediante interconsulta.
A17: 3.11 | B17: Antes de la visita de supervisión, el nutricionista debe disponer de la evidencia en la participación de reuniones con los equipos de salud y comisiones.
A18: 3.12 | B18: Lista de pacientes atendidos en visita médica (indicando nombre y número de cédula), para seleccionar al azar 4 expedientes
A19: 4 | B19: La supervisión evaluará el año anterior de forma completa.
A20: 5 | B20: El nutricionista supervisor aplica el instrumento de supervisión, identifica oportunidades de mejora que se evidencian en el informe.
A21: 6 | B21: El nutricionista supervisor elabora un acta de la supervisión realizada, donde se evidencien todos los elementos que se supervisen y firmada por la jefatura del servicio.
A22: 7 | B22: El nutricionista supervisor elabora el informe de supervisión vigente por la CNN y lo envía al Director Regional o según proceda en cada Región.
A23: 8 | B23: Cuando la jefatura del servicio supervisado conoce los resultados del informe de supervisión, elabora el plan remedial con el formato vigente y lo remite a su superior jerarca, con copia al Supervisor Regional de Nutrición o a la Coordinación Nacional de Nutrición, según corresponda.
A24: 9 | B24: Tanto la CNN como los supervisores regionales de nutrición deberán completar el Consolidado Nacional de Supervisión una vez finalizado el proceso.
A25: 10 | B25: La Supervisión Regional de Nutrición o la Coordinación Nacional de Nutrición verifica la entrega del plan remedial 30 días laborales posteriores a la remisión del informe a la Dirección Médica. Se realiza seguimiento al plan remedial según criterio, plazos y disponibilidad de los profesionales a cargo de la supervisión.
B26: Cuando se da seguimiento al plan remedial, se podrían presentar nuevos hallazgos, los cuales deben ser incluidos como parte del informe técnico para monitorear lo que corresponda.

Sheet DATOS GENERALES
A1: GERENCIA MÉDICA | M1: DRIPSS Central Norte | N1: Centro Nacional del Dolor | O1: 2102
A2: DIRECCIÓN DE DESARROLLO DE SERVICIOS DE SALUD
A3: ÁREA DE REGULACIÓN Y SISTEMATIZACIÓN AL DIAGNÓSTICO Y TRATAMIENTO
A4: COORDINACIÓN NACIONAL DE NUTRICIÓN | M4: Red de Servicios | N4: CENARE/CEACO | O4: 2101
M5: DRIPSS Central Sur | N5: Hospital Ciudad Neily | O5: 2103
A6: Datos Generales | J6: Observaciones | K6: Documentos de respaldo | M6: DRIPSS Chorotega | N6: Hospital Calderón Guardia | O6: 2105
A7: Red de Servicios: | M7: DRIPSS Huetar Norte | N7: Hospital Carlos Luis Valverde | O7: 2202
A8: Unidad Programática: | M8: DRIPSS Pacífico Central | N8: Hospital Chacón Paut | O8: 2203
A9: Nombre del Hospital: | M9: DRIPSS Huetar Atlántica | N9: Hospital de la Mujer | O9: 2205
A10: Nombre del Director Médico: | M10: DRIPSS Brunca | N10: Hospital de Niños Dr Carlos Saenz Herrera | O10: 2206
A11: Nombre del Nutricionista Jefe del Servicio de Nutrición: | M11: Gran Área Metropolitana | N11: Hospital Enrique Baltodano | O11: 2207
A12: Nombre del Nutricionista Sub-Jefe del Servicio de Nutrición:
N13: Hospital Guápiles | O13: 2304
A14: Personal operativo: | E14: Total de Personal | F14: Horas asignadas/ día | H14: Coloque un uno cuando la respuesta es NO | I14: Brechas de Recurso Humano | J14: Observaciones | K14: Material de respaldo | N14: Hospital La Anexión | O14: 2305
A15: Asistente administrativo | D15: Sí | G15: No | K15: Manual descriptivo de puestos. | N15: Hospital Los Chiles | O15: 2306
A16: Secretaria | D16: Sí | G16: No | N16: Hospital Manuel Mora | O16: 2307
A17: Total Personal Administrativo
A18: Nutricionista Jefe | D18: Sí | G18: No
A19: Nutricionista Subjefe | D19: Sí | G19: No
A20: Nutricionista Programación de Menú | D20: Sí | G20: No | K20: Manual de Gestión de los Servicios de Nutrición Patrón de menú | N20: Hospital Max Peralta | O20: 2308
A21: Nutricionista Inocuidad de Alimentos | D21: Sí | G21: No | K21: Manual de BPM | N21: Hospital Max Terán | O21: 2401
A22: Nutricionista para Coordinación del Área Clínica | D22: Sí | G22: No | N22: Hospital México | O22: 2402
A23: Nutricionista Supervisora de Producción | D23: Sí | G23: No | K23: Manual de Gestión de los Servicios de Nutrición. Manual de Instrucciones de trabajo de los hospitales | N23: Hospital Monseñor Sanabria | O23: 2501
A24: Nutricionista Sala de Fórmulas Enterales | D24: Sí | G24: No | K24: Lineamiento y Manual de Instrucciones de SF. | N24: Hospital Nacional Psiquiátrico | O24: 2502
A25: Nutricionista en Soporte nutricional | D25: Sí | G25: No | K25: Normas de Soporte Nutricional . Manual de Instrucciones | N25: Hospital San Carlos | O25: 2503
A26: Nutricionista en Área clínica | D26: Sí | G26: No | K26: Manual de Gestión de los Servicios de Nutrición. Manual de Instrucciones de trabajo de los hospitales | N26: Hospital San Francisco Asís | O26: 2504
A27: Nutricionista clínica de lactancia/banco de leche | G27: No | K27: Manual de implementación de Clínicas de Lactancia. Manual de Instrucciones de las Nutricionistas en LM. Lineamiento SF. Manual de Instrucciones de Trabajo de la Intervención del Profesional en Nutrición, Como Miembro Activo del Equipo de Salud, para Promover una Lactancia Materna Exitosa y el adecuado Manejo de Leche Humana. Manual de Procedimientos Clínica de Lactancia Materna y Desarrollo Escenario Hospitalario | N27: Hospital San Juan de Dios | O27: 2601
A28: Nutricionista en Consulta externa | D28: Sí | G28: No | K28: Manual de Gestión de los Servicios de Nutrición | N28: Hospital San Rafael de Alajuela | O28: 2602
A29: Nutricionistas en Servicios ambulatorios | D29: Sí | G29: No | N29: Hospital San Vicente de Paúl | O29: 2701
A30: Nutricionista en visita domiciliar | D30: Sí | G30: No | N30: Hospital San Vito | O30: 2702
A31: Total Nutricionistas | H31: =SUM(H18:H30) -> 0 | I31: =SUM(I18:I30) -> 0
A32: Total de asistentes de nutrición | D32: Sí | G32: No | K32: Manual descriptivo de puestos Criterios técnicos emitidos Manual de Gestión de los SN | N32: Hospital Tomás Casas | O32: 2703
A33: Total de auxiliares de nutrición | D33: Sí | G33: No | K33: Manual descriptivo de puestos Criterio técnicos emitidos | N33: Hospital Tony Facio | O33: 2704
A34: Total de trabajador de servicios generales | D34: Sí | G34: No | K34: Manual descriptivo de puestos | N34: Hospital Upala | O34: 2705
A35: Total de bodegueros | D35: Sí | G35: No | K35: De acuerdo con el oficio DAGP0196-2016 . Todos los que atienden la despensa de día tienen que ser bodegueros | N35: Hospital William Allen | O35: 2801
A36: Total de personal operativo | E36: =SUM(E32:E35) -> 0 | F36: =SUM(F15:F35) -> 0 | H36: =SUM(H15:H35) -> 0 | I36: =SUM(I15:I35) -> 0
A37: Total de personal | E37: =E17+E31+E36 -> 0 | F37: =F17+F31+F36 -> 0 | H37: =H17+H31+H36 -> 0 | I37: =I17+I31+I36 -> 0
A38: Datos del Hospital | D38: Número
A39: Total de camas hospitalización
A40: Total de otras camas
...

Sheet  GESTION ADMINISTRATIVA 
A1: GERENCIA MÉDICA
A2: DIRECCIÓN DE DESARROLLO DE SERVICIOS DE SALUD
A3: ÁREA DE REGULACIÓN Y SISTEMATIZACIÓN AL DIAGNÓSTICO Y TRATAMIENTO
A4: COORDINACIÓN NACIONAL DE NUTRICIÓN
H6: EVIDENCIA REQUERIDA | I6: SI | J6: NO | K6: N/A | L6: HALLAZGOS | M6: RECOMENDACIONES
A7: Planificación | B7: NGA01 | C7: Cuenta con la planificación del Plan anual en NOVAPLAN. | H7: Plan NOVAPLAN Anual
B8: NGA02 | C8: Se evidencian reuniones de la jefatura con el o los profesionales en Nutrición donde se analice y se discuta las metas a alcanzar en el NOVAPLAN. | H8: Actas de reuniones
B9: NGA03 | C9: Se evidencian reuniones con el personal operativo del Servicio de Nutrición donde se les informe sobre las metas del NOVAPLAN que se relacionan con su quehacer u otros temas de interés.
B10: NGA04 | C10: Presenta evidencia del último informe anual con su respectivo análisis de las actividades, donde se visualiza el cumplimiento de metas, presentado y aprobado por la Dirección Médica. | H10: Informe anual cumplimiento metas y aprobado DM
B11: NGA05 | C11: Dispone de un plan remedial para el logro de las metas de los indicadores fuera del rango establecido. | H11: Plan remedial metas de rezago
A12: Reuniones /Participación en comisiones | B12: NGA06 | C12: Existe evidencia de la planificación y ejecución del cronograma anual de reuniones con el personal a cargo. | H12: Cronograma anual de reuniones y las actas correspondientes
A13: Control de inventarios | B13: NGA07 | C13: Cuenta con el control de inventario de activos. | H13: Control de inventario de activos anual
B14: NGA08 | C14: Cuenta con el control de inventario de alimentos. | H14: Controles de inventario de alimentos mensuales
B15: NGA09 | C15: Cuenta con el control de Inventario de artículos de limpieza. | H15: Controles de inventario de artículos de limpieza mensuales
B16: NGA10 | C16: Cuenta con el control de inventario de vajilla y utensilios de cocina. | H16: Controles de inventario de vajilla y utensilios mensuales
B17: NGA11 | C17: Cuenta con el control de inventario de fórmulas enterales. | H17: Controles de inventario de fórmulas enterales mensuales
A18: Costos | B18: NGA12 | C18: Se cuenta con registros del control de gastos por compra de alimentos, suministros y otros. Revisar por lo menos el control de 3 contratos. | H18: Registros de control de gastos según contrato
H19: TOTAL | I19: =SUM(I7:I18) -> 0 | J19: =SUM(J7:J18) -> 0 | K19: =SUM(K7:K18) -> 0
A21: PUNTAJE OBTENIDO | C21: =I19 -> 0
A22: PUNTAJE NO OBTENIDO | C22: =J19 -> 0
A23: N/A | C23: =K19 -> 0
A24: PUNTAJE TOTAL | C24: =C21+C22+C23 -> 0
A25: PUNTAJE EVALUADO | C25: =C21+C22 -> 0

Sheet ATENCIÓN NUT AMBULATORIA
A1: GERENCIA MÉDICA
A2: DIRECCIÓN DE DESARROLLO DE SERVICIOS DE SALUD
A3: ÁREA DE REGULACIÓN Y SISTEMATIZACIÓN AL DIAGNÓSTICO Y TRATAMIENTO
A4: COORDINACIÓN NACIONAL DE NUTRICIÓN
A6: ATENCION NUTRICION AMBULATORIA | B6: ASPECTOS A EVALUAR | H6: SI | I6: NO | J6: N/A | K6: EVIDENCIA REQUERIDA | L6: HALLAZGOS | M6: RECOMENDACIONES
B7: ANA01 | C7: Si cuenta con lista de espera, existe evidencia de la aplicación de estrategias, en conjunto con la Dirección Médica, para su mitigación. | K7: 1. Cubo de listas de espera. 2. Estrategias documentadas para controlar listas de espera. 3. Registro de referencias.
B8: ANA02 | C8: Existe evidencia de la aplicación de estrategias, en conjunto con la Dirección Médica, para mitigar el porcentaje de ausentismo neto que supere el 30%. | K8: Estrategias documentadas para disminuir ausentismo.
B9: ANA03 | C9: Dispone de un consultorio para la atención nutricional individual según lo establecido en el Lineamiento de CE de Nutrición. De no contar con lo anterior, presentar evidencia de la gestión realizada. | K9: Visita o fotos del consultorio de nutrición, modelos de alimentos y material educativo o gestión de solicitud del recurso.
B10: ANA04 | C10: Cuenta con el equipo antropométrico y material educativo para la ejecución de sus actividades. De no contar con lo anterior, presentar evidencia de la gestión para la obtención de éste.
B11: ANA05 | C11: En caso de brindar teleconsulta y/o atención con estudiantes de práctica universitaria, realiza el llenado correspondiente del Consentimiento Informado.
B12: ANA06 | C12: Con base en la revisión de 7 expedientes, en atenciones de primera vez y subsecuentes las notas son de calidad según la normativa vigente. | H12: ='GUIA EXPEDIENTES AMBULAT'!X28 -> 0 | I12: ='GUIA EXPEDIENTES AMBULAT'!Z28 -> 0 | K12: Expedientes digitales de 7 pacientes: 2 niño menor de 2 años, 1 adolescente, 2 adulto mayor y 2 adultos
G13: TOTAL | H13: =SUM(H7:H12) -> 0 | I13: =SUM(I7:I12) -> 0 | J13: =SUM(J7:J12) -> 0
A15: PUNTAJE OBTENIDO | D15: =H13 -> 0
A16: PUNTAJE NO OBTENIDO | D16: =I13 -> 0
A17: N/A | D17: =J13 -> 0
A18: PUNTAJE TOTAL | D18: =D15+D16+D17 -> 0
A19: PUNTAJE EVALUADO | D19: =D15+D16 -> 0

Sheet GUIA EXPEDIENTES AMBULAT
A1: GERENCIA MÉDICA
A2: DIRECCIÓN DE DESARROLLO DE SERVICIOS DE SALUD
A3: ÁREA DE REGULACIÓN Y SISTEMATIZACIÓN AL DIAGNÓSTICO Y TRATAMIENTO
A4: COORDINACIÓN NACIONAL DE NUTRICIÓN
H6: Si | I6: No | J6: Si | K6: No | L6: Si | M6: No | N6: Si | O6: No | P6: Si | Q6: No | R6: Si | S6: No | T6: Si | U6: No
H7: Niño o niña | J7: Niño o niña | L7: Adolescente | N7: Adulto mayor | P7: Adulto mayor | R7: Adulto | T7: Adulto
A8: REVISIÓN DE EXPEDIENTES | B8: GEA 01 | C8: La referencia del usuario toma en cuenta los criterios de aceptación establecidos en el Lineamiento de referencia y contrarreferencia.
B9: GEA02 | C9: Registra datos antropométricos en signos vitales y el apartado objetivo del SOAP.
B10: GEA03 | C10: Se visualiza el registro de alergias alimentarias en la funcionalidad correspondiente y en la valoración clínica (objetivo).
B11: GEA04 | C11: Se visualiza el análisis de los indicadores antropométricos, bioquímicos, clínicos y dietéticos para definir el manejo nutricional
B12: GEA05 | C12: Se visualiza el registro de la dieta usual registrada en el módulo
B13: GEA 06 | C13: Datos relacionados con lactancia materna e introducción de alimentos
B14: GEA 07 | C14: Peso de referencia
B15: GEA 08 | C15: Conductas relacionadas con la alimentación (módulo)
B16: GEA 09 | C16: Se visualiza el diagnóstico nutricional que relaciona aspectos clínicos, dietéticos y conductuales siguiendo metodología PES (Problema, etiología, signos o síntomas).
B17: GEA 10 | C17: Las notas en expediente evidencian el uso correcto de los CIE-10.
B18: GEA 11 | C18: Se visualiza el requerimiento energético prescrito.
B19: GEA 12 | C19: Se prescribe plan de alimentación y/o recomendaciones dietoterapéuticas.
B20: GEA 13 | C20: Se incluye el nombre de la dieta en el plan de seguimiento.
... B25: GEA 18 | C25: Completa el módulo de Nutrición en su totalidad (excepción: cálculo de dieta en caso de manejo con recomendaciones nutricional)
V26: Número de expedientes revisados
A27: TOTAL | H27: =SUM(H8:H25) -> 0 | I27: =SUM(I8:I25) -> 0 | J27: =SUM(J8:J25) -> 0 | K27: =SUM(K8:K25) -> 0 | L27: =SUM(L8:L25) -> 0 | M27: =SUM(M8:M25) -> 0 | N27: =SUM(N8:N25) -> 0 | O27: =SUM(O8:O25) -> 0 | ... U27: =SUM(U8:U25) -> 0
A28: PUNTAJE | H28: =H27/18 -> 0 | J28: =J27/18 -> 0 | L28: =L27/15 -> 0 | N28: =N27/15 -> 0 | P28: =P27/15 -> 0 | R28: =R27/15 -> 0 | T28: =T27/15 -> 0 | V28: Puntaje total | W28: SI | X28: =SUM(H28:U28) -> 0 | Y28: NO | Z28: =X26-X28 -> 0

Sheet ATENCIÓN NUT HOSPITALIZACIÓN 
A1: GERENCIA MÉDICA
A2: DIRECCIÓN DE DESARROLLO DE SERVICIOS DE SALUD
A3: ÁREA DE REGULACIÓN Y SISTEMATIZACIÓN AL DIAGNÓSTICO Y TRATAMIENTO
A4: COORDINACIÓN NACIONAL DE NUTRICIÓN
A6: ASPECTOS A EVALUAR | H6: SI | I6: NO | J6: N/A | K6: EVIDENCIA REQUERIDA | L6: HALLAZGOS | M6: RECOMENDACIONES
A7: ATENCIÓN DE INTERCONSULTAS | B7: ANH01 | C7: Se utiliza el registro de atención de interconsultas a nutrición de pacientes nuevos y subsecuentes. | K7: Registro de IC realizadas.
B8: ANH02 | C8: Con base en la revisión de expedientes de interconsultas las notas son completas para emitir el diagnóstico y la intervención nutricional (se evalúa la nota del expediente). | H8: ='GUIA EXPEDIENTES HOSPIT'!R21 -> 0 | I8: ='GUIA EXPEDIENTES HOSPIT'!T21 -> 0
A9: SESIONES ACTUALIZACIÓN | B9: ANH03 | C9: Existen registros de los participantes en las sesiones de actualización de los profesionales según lo programado. | K9: Mostrar registros de evidencia y programación.
A10: EGRESO | B10: AN04 | C10: El Hospital o el Servicio de Nutrición cuenta con un espacio para brindar la educación nutricional a los familiares de pacientes de la dieta de egreso. | H10: Se evalúa pero no se le otorga puntaje
A11: CONTROL DE INGESTA | B11: ANH05 | C11: El nutricionista realiza controles de aceptación del menú por lo menos dos veces a la semana por tiempo de comida, utilizando el Formulario de Control de Ingesta para Nutrición. Verificar acciones correctivas. | K11: Registros controles de ingesta dietética en salón.
G12: TOTAL | H12: {=SUM(H7:H9+H11)} -> 0 | I12: {=SUM(I7:I9+I11)} -> 0 | J12: {=SUM(J7:J9+J11)} -> 0
A14: PUNTAJE OBTENIDO | C14: =H12 -> 0
A15: PUNTAJE NO OBTENIDO | C15: =I12 -> 0
A16: N/A | C16: =J12 -> 0
A17: PUNTAJE TOTAL | C17: =C14+C15+C16 -> 0
A18: PUNTAJE EVALUADO | C18: =C14+C15 -> 0

Sheet GUIA EXPEDIENTES HOSPIT
A1: GERENCIA MÉDICA
A2: DIRECCIÓN DE DESARROLLO DE SERVICIOS DE SALUD
A3: ÁREA DE REGULACIÓN Y SISTEMATIZACIÓN AL DIAGNÓSTICO Y TRATAMIENTO
A4: COORDINACION NACIONAL DE NUTRICIÓN
H6: CASO 1 | J6: CASO 2 | L6: CASO 3 | N6: CASO 4
H7: Si | I7: No | J7: Si | K7: No | L7: Si | M7: No | N7: Si | O7: No
B8: GEA01 | C8: Registra datos antropométricos en signos vitales y el apartado objetivo del SOAP.
B9: GEA02 | C9: Se visualiza el registro de alergias alimentarias en la funcionalidad correspondiente y en la valoración clínica (objetivo).
B10: GEA03 | C10: Se visualiza el análisis de los indicadores antropométricos, bioquímicos, clínicos y dietéticos para definir el manejo nutricional nutricional.
B11: GEA04 | C11: Se visualiza el registro de la dieta usual o recordatorio 24 horas.
B12: GEA05 | C12: Se visualiza el diagnóstico nutricional que relaciona aspectos clínicos, dietéticos y conductuales siguiendo metodología PES (Problema, etiología, signos o síntomas).
B13: GEA06 | C13: Los registros en SIES evidencian el uso correcto de los CIE-10.
B14: GEA07 | C14: Se visualiza el requerimiento energético prescrito.
B15: GEA08 | C15: Se prescribe plan de alimentación y/o recomendaciones dietoterapéuticas.
B16: GEA09 | C16: Se incluye el nombre de la dieta en el plan de seguimiento.
B17: GEA11 | C17: Se registran las metas definidas por el profesional en Nutrición.
B18: GEA12 | C18: Anota el plan de seguimiento.
B19: GEA13 | C19: Se evidencia al menos una atención de seguimiento durante la estancia hospitalaria. | P19: Número de expedientes revisados
B20: Total | H20: =SUM(H8:H19) -> 0 | I20: =SUM(I8:I19) -> 0 | J20: =SUM(J8:J19) -> 0 | K20: =SUM(K8:K19) -> 0 | L20: =SUM(L8:L19) -> 0 | M20: =SUM(M8:M19) -> 0 | N20: =SUM(N8:N19) -> 0 | O20: =SUM(O8:O19) -> 0
A21: Puntaje | H21: =H20/12 -> 0 | J21: =J20/12 -> 0 | L21: =L20/12 -> 0 | N21: =N20/12 -> 0 | P21: Puntaje total | Q21: SI | R21: =H21+J21+L21+N21 -> 0 | S21: NO | T21: =R19-R21 -> 0

Sheet BPM. INSPECCIÓN INSTALACIONES
A1: GERENCIA MÉDICA
A2: DIRECCIÓN DE DESARROLLO DE SERVICIOS DE SALUD
A3: ÁREA DE REGULACIÓN Y SISTEMATIZACIÓN AL DIAGNÓSTICO Y TRATAMIENTO
A4: COORDINACION NACIONAL DE NUTRICIÓN
A6: ASPECTOS A EVALUAR | D6: SI | E6: NO | F6: N/A | G6: EVIDENCIA REQUERIDA | H6: HALLAZGOS | I6: RECOMENDACIONES
A7: Programa de Mantenimiento Preventivo | B7: BPMII01 | C7: Se cuenta con el mantenimiento preventivo de equipo o la gestión de un contrato de mantenimiento preventivo del equipo. | G7: Registros mantenimiento preventivo o gestión del contrato.
B8: BPMII02 | C8: Se cuenta con el monitoreo del mantenimiento preventivo.
A9: Programa de Soporte de Inducción y Capacitación | B9: BPMII03 | C9: Cuenta con evidencia de Entrevistas de Previo Empleo Código F-PS-IC-01 | G9: Verificar registros.
B10: BPMII04 | C10: Cuenta con evidencia de Fichas de Actividades Educativas F-PS-IC-02 | G10: Verificar registros.
B11: BPMII05 | C11: Cuenta con evidencia de Registros de Asistencia a Actividades Educativas. Código F-PS-IC-03 | G11: Verificar registros.
B12: BPMII06 | C12: Cuenta con el Informe Anual de Actividades Educativas en Inducción y Capacitación. Código F-PS-IC-04 | G12: Verificar registros.
B13: BPMII07 | C13: Cuenta con la evidencia de Monitoreo de Inducción al Nuevo Trabajador. Código F-PS-IC-05 | G13: Verificar registros.
B14: BPMII08 | C14: Cuenta con evidencia del Monitoreo de Cumplimiento en el Programa de Capacitación. Código F-PS-IC-06 | G14: Verificar registros.
A15: Estación de lavado de manos | B15: BPMII09 | C15: Previo al ingreso a las áreas de proceso: Se dispone de lavamanos de accionar automático o de pedal, en adecuadas condiciones de limpieza y funcionamiento.
B16: BPMII10 | C16: Previo al ingreso a las áreas de proceso: Cuentan con jabón líquido, toallas de papel, basurero con tapa y rotulación con instrucciones de lavado de manos.
A17: Personal y Visitantes | B17: BPMII11 | C17: El personal del Servicio de Nutrición cuenta con carné de manipulador de alimentos. | G17: Verificar registro físico o digital en SINU.
B18: BPMII12 | C18: Todas las personas que ingresan al Servicio de Alimentación se lavan las manos, de acuerdo al procedimiento establecido.
B19: BPMII13 | C19: El personal que tiene barba y bigote porta correctamente el protector correspondiente.
B20: BPMII14 | C20: El personal no utiliza maquillaje ni pestañas postizas, no usa ningún tipo de joyas, ni objetos que pueden caer sobre los alimentos.
B21: BPMII15 | C21: Las uñas del personal se encuentran cortas, limpias, no son postizas y están sin esmalte.
B22: BPMII16 | C22: El uniforme del personal se observa limpio, completo y en buen estado.
B23: BPMII17 | C23: El personal cumple con el calzado correspondiente. En caso de tener justificación por salud ocupacional se cuenta con los registros respectivos.
B24: BPMII18 | C24: El cobertor de cabello es de material descartable, de color claro y está colocado de la forma correcta.
B25: BPMII19 | C25: Se utiliza mascarilla y guantes desechables en las actividades requeridas. Se utilizan guantes desechables, para labores específicas de manipulación de alimentos crudos o cocidos que no requieren ningún tratamiento térmico posterior, tales como: alistado de pan, pelado, picado y empaque de frutas, picado de ingredientes para ensaladas o alguna preparación similar que se consume cruda y cualquier otra tarea que se considere necesaria, por ejemplo desmenuzar carnes.
B26: BPMII20 | C26: Dentro del área de producción, los funcionarios no realizan prácticas inadecuadas de manipulación de alimentos (comer, fumar, tocar partes del cuerpo, hablar encima de los alimentos).
B27: BPMII21 | C27: No se observa el uso del teléfono celular, ningún dispositivo electrónico, plantas, radios, adornos, ni vajilla personal en el área de producción.
B28: BPMII22 | C28: No se observan: alimentos, ni artículos de uso personal dentro del área de producción.
B29: BPMII23 | C29: Verificar el registro de información de visitantes en el Formulario de Control de ingreso para los visitantes Código F-BPM-005 y que el instructivo se encuentre disponible. | G29: Verificar registros e instructivo.
B30: BPMII24 | C30: Disponen de gabachas y equipo de protección personal para los visitantes. | G30: Verificar el lugar donde las colocan.
A31: Recibo de alimentos | B31: BPMII25 | C31: Existe evidencia de la aplicación del Formulario de Inspección en Recibo de Alimentos Código F-BPM-007. | G31: Verificar registros.
B32: BPMII26 | C32: Existe evidencia de la aplicación del Formulario Verificación de Condiciones Técnicas en la Recepción de Alimentos F-POE-RA-01. | G32: Verificar registros.
B33: BPMII27 | C33: Durante el recibo de alimentos, se ejecuta un plan de muestreo según el Formulario Plan de Muestreo F-POE-RA-02. | G33: Verificar registros.
B34: BPMII28 | C34: Revisar los reportes de incumplimientos en el Formulario F-POE-RA-03. | G34: Verificar registros.
B35: BPMII29 | C35: El área es de fácil acceso para la descarga de alimentos.
B36: BPMII30 | C36: El área cuenta con espacio exclusivo y suficiente para las actividades.
B37: BPMII31 | C37: El área se encuentra en condiciones óptimas de orden limpieza (pisos, paredes, mesas de trabajo, canastas, carros para transportar alimentos, etc).
B38: BPMII32 | C38: Los equipos disponibles (balanzas) se encuentran limpios y calibrados. | G38: Verificar registros de calibración de balanza.
A39: Almacenamiento de alimentos | B39: BPMII33 | C39: El área se encuentra en condiciones óptimas de orden limpieza (pisos, paredes, mesas de trabajo)
B40: BPMII34 | C40: Se cuenta con áreas exclusivas, de acceso restringido y separadas para el almacenamiento de alimentos perecederos y no perecederos, debidamente rotuladas.
B41: BPMII35 | C41: Los alimentos perecederos se almacenan en temperaturas de refrigeración, la cual se monitorea diariamente y se registra en el Formulario Monitoreo de Temperatura de Refrigeración, de almacenamiento y mantenimiento. Código F-BPM-02. | G41: Verificar registro físico o digital en SINU.
...

Sheet EVALUACION MENU
A1: GERENCIA MÉDICA
A2: DIRECCIÓN DE DESARROLLO DE SERVICIOS DE SALUD
A3: ÁREA DE REGULACIÓN Y SISTEMATIZACIÓN AL DIAGNÓSTICO Y TRATAMIENTO
A4: COORDINACIÓN NACIONAL DE NUTRICIÓN
D6: SI | E6: NO | F6: N/A | G6: EVIDENCIA REQUERIDA | H6: HALLAZGOS | I6: RECOMENDACIONES
A7: EVALUACIÓN DEL MENÚ | B7: EM01 | C7: Utiliza el SINU en las labores del Servicio de Nutrición.
B8: EM02 | C8: El ciclo de menú actual está basado en el patrón de menú vigente.
B9: EM03 | C9: El jefe revisa y aprueba el ciclo de menú.
B10: EM04 | C10: El menú se encuentra en lugares visibles.
B11: EM05 | C11: En el ciclo de menú se hace uso de la nomenclatura oficial.
B12: EM06 | C12: El ciclo del menú tiene derivación de dietas.
B13: EM07 | C13: El cálculo de ingredientes coincide con las recetas generadas en el SINU/Servicio.
B14: EM08 | C14: Utiliza una bitácora o formulario para el registro del ajuste al menú.
B15: EM09 | C15: Se cuenta con un formulario para verificar la instrucción al personal sobre la preparación del menú diario.
B16: EM10 | C16: Sirve correctamente a los pacientes, la porción de cada una de las preparaciones con la cuchara porcionadora correspondiente.
B17: EM11 | C17: Sirve correctamente a los funcionarios, la porción de cada una de las preparaciones con la cuchara porcionadora correspondiente.
B18: EM12 | C18: Se dispone de registro de pesos de residuos de alimentos de preparado final.
B19: EM13 | C19: Se vinculan los resultados de los pesos de residuos de alimentos de preparado final con los cálculos para pedidos y cambios en el ciclo de menú.
... B25: EM19 | C25: Se cuenta con encuestas de aceptación del menú por parte de los funcionarios que asisten al comedor, al menos dos por año, utilizando el Formulario Encuesta para conocer la percepción de los usuarios del comedor del Hospital, respecto al servicio ofrecido. Verificar acciones correctivas.
D26: =SUM(D7:D25) -> 0 | E26: =SUM(E7:E25) -> 0 | F26: =SUM(F7:F25) -> 0
A28: PUNTAJE OBTENIDO | C28: =D26 -> 0
A29: PUNTAJE NO OBTENIDO | C29: =E26 -> 0
A30: N/A | C30: =F26 -> 0
A31: PUNTAJE TOTAL | C31: =C28+C29+C30 -> 0
A32: PUNTAJE EVALUADO | C32: =C28+C29 -> 0

Sheet EVALUACION HOSPITALES
A1: GERENCIA MÉDICA
A2: DIRECCIÓN DE DESARROLLO DE SERVICIOS DE SALUD
A3: ÁREA DE REGULACIÓN Y SISTEMATIZACIÓN AL DIAGNÓSTICO Y TRATAMIENTO
A4: COORDINACIÓN NACIONAL DE NUTRICIÓN
B6: UNIDAD | C6: EVALUACION GENERAL | F6: PUNTAJE EVALUADO | G6: PUNTAJE OBTENIDO | H6: PESO PORCENTUAL
C7: Gestión Administrativa | F7: =' GESTION ADMINISTRATIVA '!C25 -> 0 | G7: =' GESTION ADMINISTRATIVA '!C21 -> 0 | H7: =(G7/F12)*100 -> #DIV/0!
C8: Atención Nutricional Ambulatoria | F8: ='ATENCIÓN NUT AMBULATORIA'!D19 -> 0 | G8: ='ATENCIÓN NUT AMBULATORIA'!D15 -> 0 | H8: =G8/F12*100 -> #DIV/0!
C9: Atención Nutricional Hospitalización | F9: ='ATENCIÓN NUT HOSPITALIZACIÓN '!C18 -> 0 | G9: ='ATENCIÓN NUT HOSPITALIZACIÓN '!C14 -> 0 | H9: =(G9/F12)*100 -> #DIV/0!
C10: BPM | F10: ='BPM. INSPECCIÓN INSTALACIONES'!C125 -> 0 | G10: ='BPM. INSPECCIÓN INSTALACIONES'!C121 -> 0 | H10: =(G10/F12)*100 -> #DIV/0!
C11: Evaluación del Menú | F11: ='EVALUACION MENU'!C32 -> 0 | G11: ='EVALUACION MENU'!C28 -> 0 | H11: =(G11/F12)*100 -> #DIV/0!
C12: PUNTAJE TOTAL | F12: =SUM(F7:F11) -> 0 | G12: =SUM(G7:G11) -> 0 | H12: =(G12/F12)*100 -> #DIV/0!
